BEGIN:VCALENDAR
VERSION:2.0
PRODID:-//PARKFUL | 公園をもっと楽しく、もっと身近に。 - ECPv4.7.3//NONSGML v1.0//EN
CALSCALE:GREGORIAN
METHOD:PUBLISH
X-WR-CALNAME:PARKFUL | 公園をもっと楽しく、もっと身近に。
X-ORIGINAL-URL:https://parkful.net
X-WR-CALDESC:Events for PARKFUL | 公園をもっと楽しく、もっと身近に。
BEGIN:VEVENT
DTSTART;TZID=Asia/Tokyo:20190414T100000
DTEND;TZID=Asia/Tokyo:20190414T120000
DTSTAMP:20260422T084450
CREATED:20190322T011240Z
LAST-MODIFIED:20190322T021716Z
UID:45610-1555236000-1555243200@parkful.net
SUMMARY:ワンちゃんのしつけ教室・春～どこにでも安心して連れて行けるワンコをめざして～（和光樹林公園）
DESCRIPTION:公園にワンちゃんと一緒に遊びに行こう！\n安心してお出かけできるよう、トレーナーの先生がわかりやすくマナーをお教えします。 \n\n\n\n開催日時\n2019年4月14日(日)　10:00～12:00\n\n\n開催場所\n埼玉県営和光樹林公園 屋根付き広場\n\n\n主催者\n和光樹林公園パートナーズ\n\n\n料金\n1000円\n\n\n参加申し込み\n事前予約\nFAX：048-465-2781または管理事務所までお越しください。\n\n\nイベント詳細\nhttp://www.seibu-la.co.jp/wako-jurin/event/20190311084056.html\n\n\n\n
URL:https://parkful.net/event/%e3%83%af%e3%83%b3%e3%81%a1%e3%82%83%e3%82%93%e3%81%ae%e3%81%97%e3%81%a4%e3%81%91%e6%95%99%e5%ae%a4%e3%83%bb%e6%98%a5%ef%bd%9e%e3%81%a9%e3%81%93%e3%81%ab%e3%81%a7%e3%82%82%e5%ae%89%e5%bf%83%e3%81%97/
CATEGORIES:埼玉県
ATTACH;FMTTYPE=image/jpeg:https://parkful.net/wp-content/uploads/2fc62db721972c861dd124ac05dad8cc-1.jpg
END:VEVENT
END:VCALENDAR