BEGIN:VCALENDAR
VERSION:2.0
PRODID:-//PARKFUL | 公園をもっと楽しく、もっと身近に。 - ECPv4.7.3//NONSGML v1.0//EN
CALSCALE:GREGORIAN
METHOD:PUBLISH
X-WR-CALNAME:PARKFUL | 公園をもっと楽しく、もっと身近に。
X-ORIGINAL-URL:https://parkful.net
X-WR-CALDESC:Events for PARKFUL | 公園をもっと楽しく、もっと身近に。
BEGIN:VEVENT
DTSTART;TZID=Asia/Tokyo:20190423T110000
DTEND;TZID=Asia/Tokyo:20190423T120000
DTSTAMP:20260422T144608
CREATED:20190322T013531Z
LAST-MODIFIED:20190322T021452Z
UID:45632-1556017200-1556020800@parkful.net
SUMMARY:親子スポーツ教室（六仙公園）
DESCRIPTION:親子でコミュニケーションをとりながら、\n一緒に走って・飛んで・転がって子供の基礎運動能力を身に付けます。 \n\n\n\n開催日時\n2019年4月23日(火）11:00～11:45　※雨天中止\n\n\n開催場所\n都立六仙公園 芝生広場\n\n\n主催者\n西武・武蔵野パートナーズ\n\n\n料金\n200円（保険料他）\n\n\n参加申し込み\n事前申込\nTEL：0422-31-6457\n先着20名(当日でも空きがあれば参加可能）\n\n\nイベント詳細\nhttp://musashinoparks.com/app/events/view/1385\n\n\n\n
URL:https://parkful.net/event/%e8%a6%aa%e5%ad%90%e3%82%b9%e3%83%9d%e3%83%bc%e3%83%84%e6%95%99%e5%ae%a4/
CATEGORIES:東京都
END:VEVENT
END:VCALENDAR