BEGIN:VCALENDAR
VERSION:2.0
PRODID:-//PARKFUL | 公園をもっと楽しく、もっと身近に。 - ECPv4.7.3//NONSGML v1.0//EN
CALSCALE:GREGORIAN
METHOD:PUBLISH
X-WR-CALNAME:PARKFUL | 公園をもっと楽しく、もっと身近に。
X-ORIGINAL-URL:https://parkful.net
X-WR-CALDESC:Events for PARKFUL | 公園をもっと楽しく、もっと身近に。
BEGIN:VEVENT
DTSTART;TZID=Asia/Tokyo:20170311T100000
DTEND;TZID=Asia/Tokyo:20170311T150000
DTSTAMP:20260421T090221
CREATED:20170224T015313Z
LAST-MODIFIED:20170224T015313Z
UID:22354-1489226400-1489244400@parkful.net
SUMMARY:防災ライフフェスタ2017（代々木公園）
DESCRIPTION:災害時、避難場所としての役割を担う代々木公園で\n防災について学びませんか？\n代々木公園の防災上の役割や防災施設を紹介するほか、\n応急給水槽内部の見学会や防災キャンプなど、\n普段はなかなか体験することができないプログラムを\nご用意してお待ちしております。 \n\n\n\n開催日時\n平成29年3月11日（土）\n10時～15時 \n※防災キャンプ：同日15時～翌12日（日）8時\n\n\n開催場所\n\n\n\n主催者\n公益財団法人 東京都公園協会\n\n\n参加費\n一部有料\n\n\n参加申し込み\n公式HPにてご確認ください\n\n\nイベント詳細HP\nhttp://www.tokyo-park.or.jp/event/2017/02/yoyogi-20170209.html\n\n\n\n
URL:https://parkful.net/event/170311_bousaifesta_2017_yoyogi/
CATEGORIES:東京都
END:VEVENT
END:VCALENDAR