BEGIN:VCALENDAR
VERSION:2.0
PRODID:-//PARKFUL | 公園をもっと楽しく、もっと身近に。 - ECPv4.7.3//NONSGML v1.0//EN
CALSCALE:GREGORIAN
METHOD:PUBLISH
X-WR-CALNAME:PARKFUL | 公園をもっと楽しく、もっと身近に。
X-ORIGINAL-URL:https://parkful.net
X-WR-CALDESC:Events for PARKFUL | 公園をもっと楽しく、もっと身近に。
BEGIN:VEVENT
DTSTART;TZID=Asia/Tokyo:20170321T103000
DTEND;TZID=Asia/Tokyo:20170321T120000
DTSTAMP:20260421T082825
CREATED:20170308T054000Z
LAST-MODIFIED:20170308T054000Z
UID:23115-1490092200-1490097600@parkful.net
SUMMARY:ノルディックウォーク講習会　火曜日コース（久宝寺緑地）
DESCRIPTION:ノルディックウォークに挑戦してみませんか？インストラクターの指導のもと、今話題のノルディック・ウォークをしながら都会の中の自然を再発見！全日本ノルディック・ウォーク連盟のインストラクターの指導のもと、ノルディック・ウォークで園内を歩きます。参加料にポールの貸し出し料金も含んでいます。初めての方も是非この機会に試してみてください。\n体を動かしやすい服装、靴でお越しください。帽子やタオル、水分補給の準備もお忘れなく。\n※雨天中止の場合があります。管理事務所までお問い合わせください。 \n\n\n\n開催日時\n平成29年3月21日（火曜日）\n午前10時30分から正午まで\n\n\n開催場所\n久宝寺緑地スポーツハウス\n\n\n主催者\n\n\n\n参加費\n500円\n\n\n参加申し込み\n定員：20名（先着順）\n\n\nイベント詳細HP\n\n\n\n\n
URL:https://parkful.net/event/170321_nordic_walk_tuesday/
CATEGORIES:大阪府
END:VEVENT
END:VCALENDAR