BEGIN:VCALENDAR
VERSION:2.0
PRODID:-//PARKFUL | 公園をもっと楽しく、もっと身近に。 - ECPv4.7.3//NONSGML v1.0//EN
CALSCALE:GREGORIAN
METHOD:PUBLISH
X-WR-CALNAME:PARKFUL | 公園をもっと楽しく、もっと身近に。
X-ORIGINAL-URL:https://parkful.net
X-WR-CALDESC:Events for PARKFUL | 公園をもっと楽しく、もっと身近に。
BEGIN:VEVENT
DTSTART;VALUE=DATE:20170325
DTEND;VALUE=DATE:20170410
DTSTAMP:20260421T085028
CREATED:20170302T040314Z
LAST-MODIFIED:20170302T040314Z
UID:22723-1490400000-1491782399@parkful.net
SUMMARY:さくらウィーク（肥後細川庭園（旧名・新江戸川公園））
DESCRIPTION:3月18日に「肥後細川庭園」へと名称を変更する新江戸川公園では、お花見のお客様が訪れる3月下旬より4月上旬の土曜日・日曜日に「さくらウィーク」と題し、さまざまなイベントを行います。\n狂言や能、落語など、和の伝統芸能を鑑賞する会のほか、桜が色づく庭園をボランティアがガイドするガイドツアーを行います。\nさらに、喫茶「椿」では期間限定で“桜餅”をお楽しみいただけます。\n春の空に咲き誇る桜とともに、雅なひとときをお過ごしください。 \n\n\n\n開催日時\n平成29年3月25日(土)～4月9日（日）\n\n\n開催場所\n\n\n\n主催者\n\n\n\n参加費\nイベント毎に異なります。詳細はHPをご覧ください。\n\n\n参加申し込み\nイベント毎に異なります。詳細はHPをご覧ください。\n\n\nイベント詳細HP\n新江戸川公園ホームページ\n\n\n\n
URL:https://parkful.net/event/170325_sakuraweek/
CATEGORIES:東京都
END:VEVENT
END:VCALENDAR