BEGIN:VCALENDAR
VERSION:2.0
PRODID:-//PARKFUL | 公園をもっと楽しく、もっと身近に。 - ECPv4.7.3//NONSGML v1.0//EN
CALSCALE:GREGORIAN
METHOD:PUBLISH
X-WR-CALNAME:PARKFUL | 公園をもっと楽しく、もっと身近に。
X-ORIGINAL-URL:https://parkful.net
X-WR-CALDESC:Events for PARKFUL | 公園をもっと楽しく、もっと身近に。
BEGIN:VEVENT
DTSTART;TZID=Asia/Tokyo:20170326T130000
DTEND;TZID=Asia/Tokyo:20170326T160000
DTSTAMP:20260421T050651
CREATED:20170308T071730Z
LAST-MODIFIED:20170308T071730Z
UID:23158-1490533200-1490544000@parkful.net
SUMMARY:わんにゃん防災フェア2017（住之江公園）
DESCRIPTION:住之江公園において、ペットに焦点を当てた防災イベントを実施します。ペットを飼っていらっしゃる方もそうでない方も、みなさまお誘いあわせのうえ、ぜひご参加ください。\nラリー形式で発災時におけるペットを同伴した避難方法を体験しながら注意点などを学びます。 \n\n\n\n開催日時\n平成29年3月26日（日曜日）\n午後1時から午後4時まで\n\n\n開催場所\n住之江公園　児童広場周辺\n\n\n主催者\n\n\n\n参加費\n無料\n\n\n参加申し込み\n\n\n\nイベント詳細HP\nhttp://www.toshi-kouen.jp/calendarjp/event.php?eid=20161222102741518\n\n\n\n
URL:https://parkful.net/event/170326_wannyan_bousai_fair_2017/
CATEGORIES:大阪府
END:VEVENT
END:VCALENDAR