BEGIN:VCALENDAR
VERSION:2.0
PRODID:-//PARKFUL | 公園をもっと楽しく、もっと身近に。 - ECPv4.7.3//NONSGML v1.0//EN
CALSCALE:GREGORIAN
METHOD:PUBLISH
X-WR-CALNAME:PARKFUL | 公園をもっと楽しく、もっと身近に。
X-ORIGINAL-URL:https://parkful.net
X-WR-CALDESC:Events for PARKFUL | 公園をもっと楽しく、もっと身近に。
BEGIN:VEVENT
DTSTART;VALUE=DATE:20170415
DTEND;VALUE=DATE:20170508
DTSTAMP:20260420T090003
CREATED:20170426T060300Z
LAST-MODIFIED:20170426T060300Z
UID:25726-1492214400-1494201599@parkful.net
SUMMARY:春の六義園（ツツジの解説パネルの展示）（六義園）
DESCRIPTION:元禄時代、駒込染井を中心にツツジの園芸ブームが江戸中に起こりました。\n流行の中心地であった六義園(りくぎえん)には古品種のツツジが数多く植えられ、\n現在まで残っています。\nこのツツジの見ごろに合わせ、ツツジの特別ガイドや江戸園芸ツツジの解説パネルの展示など、\n六義園と江戸園芸ツツジの歴史に楽しく触れることのできる催しを開催します。\n春の穏やかな陽気の中、鮮やかな赤や紫に彩られた六義園にご来園ください。 \n\n\n\n開催日時\n平成29年4月15日（土）～5月7日（日）\n9時～17時（最終入園は16時30分）\n※ゴールデンウィーク期間中（4月29日～5月7日）は、開園時間を18時まで延長します。（最終入園は17時30分）　\n\n\n開催場所\nサービスセンター横・園内各所　\n\n\n主催者\n公益財団法人 東京都公園協会\n\n\n参加費\n　\n\n\n参加申し込み\n　\n\n\nイベント詳細HP\nhttps://www.tokyo-park.or.jp/event/2017/03/rikugien-2010322.html\n\n\n\n
URL:https://parkful.net/event/170415_rikugien/
CATEGORIES:東京都
END:VEVENT
END:VCALENDAR