BEGIN:VCALENDAR
VERSION:2.0
PRODID:-//PARKFUL | 公園をもっと楽しく、もっと身近に。 - ECPv4.7.3//NONSGML v1.0//EN
CALSCALE:GREGORIAN
METHOD:PUBLISH
X-WR-CALNAME:PARKFUL | 公園をもっと楽しく、もっと身近に。
X-ORIGINAL-URL:https://parkful.net
X-WR-CALDESC:Events for PARKFUL | 公園をもっと楽しく、もっと身近に。
BEGIN:VEVENT
DTSTART;VALUE=DATE:20170507
DTEND;VALUE=DATE:20170508
DTSTAMP:20260421T090315
CREATED:20170314T041023Z
LAST-MODIFIED:20170314T041023Z
UID:23799-1494115200-1494201599@parkful.net
SUMMARY:かわいいハーブのサシェをつくりましょう（服部緑地）
DESCRIPTION:香りの良いハーブを使ってオリジナルサシェ（匂い袋）を作ります。 \n\n\n\n開催日時\n平成29年5月7日（日曜日）\n午前11時から正午まで、午後1時から午後2時まで\n\n\n開催場所\n服部緑地　都市緑化植物園　ハーブ園\n\n\n主催者\n\n\n\n参加費\n100円\n※別途、入園料210円が必要（中学生以下は無料）\n\n\n参加申し込み\n定員：各回30名（先着順）\n服部緑地　都市緑化植物園\n電話番号：06-6866-3621\n\n\nイベント詳細HP\n\n\n\n\n
URL:https://parkful.net/event/170507_herb_sachet/
CATEGORIES:大阪府
END:VEVENT
END:VCALENDAR