BEGIN:VCALENDAR
VERSION:2.0
PRODID:-//PARKFUL | 公園をもっと楽しく、もっと身近に。 - ECPv4.7.3//NONSGML v1.0//EN
CALSCALE:GREGORIAN
METHOD:PUBLISH
X-WR-CALNAME:PARKFUL | 公園をもっと楽しく、もっと身近に。
X-ORIGINAL-URL:https://parkful.net
X-WR-CALDESC:Events for PARKFUL | 公園をもっと楽しく、もっと身近に。
BEGIN:VEVENT
DTSTART;VALUE=DATE:20170806
DTEND;VALUE=DATE:20170807
DTSTAMP:20260422T085450
CREATED:20170706T041032Z
LAST-MODIFIED:20170706T041032Z
UID:27897-1501977600-1502063999@parkful.net
SUMMARY:子どもワンパク体験～どろんこ&ツリーイング～（小金井公園）
DESCRIPTION:夏の陽射しがまぶしいこの時期、小金井公園では土・泥・水・樹木など自然の産物の感触に親しみながら外遊びの楽しさを体験してもらうイベント、「子どもワンパク体験」を開催します。\n小金井公園の豊かな自然に触れることで、自然への興味や愛着心を大きくし、遊びを通して、子どもたちの”好奇心”を育てます。\n夏休みの思い出づくりに、ぜひ親子でご参加ください。 \n\n\n\n開催日時\n◆どろんこ体験\n平成29年8月6日（日）10時～15時　※14時30分受付終了\n◆小学生ツリーイング体験\n平成29年8月6日（日）①10時　②11時　③13時　④14時\n\n\n開催場所\nこどもの広場\n\n\n主催者\n公益財団法人 東京都公園協会\n\n\n参加費\n◆どろんこ体験 50円／人\n◆小学生ツリーイング体験 1\,000円／人\n\n\n参加申し込み\n小学生ツリーイング体験は事前申込\n\n\nイベント詳細\nhttps://www.tokyo-park.or.jp/event/2017/07/koganei-20170705.html\n\n\n\n
URL:https://parkful.net/event/170806_kodomowanpaku/
CATEGORIES:東京都
END:VEVENT
END:VCALENDAR