BEGIN:VCALENDAR
VERSION:2.0
PRODID:-//PARKFUL | 公園をもっと楽しく、もっと身近に。 - ECPv4.7.3//NONSGML v1.0//EN
CALSCALE:GREGORIAN
METHOD:PUBLISH
X-WR-CALNAME:PARKFUL | 公園をもっと楽しく、もっと身近に。
X-ORIGINAL-URL:https://parkful.net
X-WR-CALDESC:Events for PARKFUL | 公園をもっと楽しく、もっと身近に。
BEGIN:VEVENT
DTSTART;TZID=Asia/Tokyo:20181014T130000
DTEND;TZID=Asia/Tokyo:20181014T150000
DTSTAMP:20260425T170208
CREATED:20180924T051433Z
LAST-MODIFIED:20180924T051433Z
UID:41371-1539522000-1539529200@parkful.net
SUMMARY:秋のバラフェスタ2018（代々木公園）
DESCRIPTION:代々木公園に咲く秋のバラを紹介します。\nバラ総選挙、バラ巡りツアー、フォトスポットなど、バラにまつわる催しをたくさんご用意しています。どなたでも参加できます。\n思う存分秋のバラを楽しんでください！ \n\n\n\n開催日時\n2018年10月14日（日）13時～15時\n\n\n開催場所\n代々木公園 バラの園及びフラワーランド\n\n\n参加申し込み\n当日自由参加\n\n\nイベント詳細\nhttp://www.tokyo-park.or.jp/event/41687.html\n\n\n\n
URL:https://parkful.net/event/181014_rosefesta/
CATEGORIES:東京都
END:VEVENT
END:VCALENDAR