BEGIN:VCALENDAR
VERSION:2.0
PRODID:-//PARKFUL | 公園をもっと楽しく、もっと身近に。 - ECPv4.7.3//NONSGML v1.0//EN
CALSCALE:GREGORIAN
METHOD:PUBLISH
X-WR-CALNAME:PARKFUL | 公園をもっと楽しく、もっと身近に。
X-ORIGINAL-URL:https://parkful.net
X-WR-CALDESC:Events for PARKFUL | 公園をもっと楽しく、もっと身近に。
BEGIN:VEVENT
DTSTART;VALUE=DATE:20190129
DTEND;VALUE=DATE:20190130
DTSTAMP:20260422T193327
CREATED:20181213T072525Z
LAST-MODIFIED:20181213T072525Z
UID:43610-1548720000-1548806399@parkful.net
SUMMARY:親子スポーツ教室（都立六仙公園）
DESCRIPTION:親子でコミュニケーションをとりながら、一緒に走って・飛んで・転がって子供の基礎運動能力を身に付けます。\n対象：2〜4歳児（親子でご参加ください） \n\n\n\n開催日時\n2019年1月29日(火）11:00～11:45　※雨天中止\n\n\n開催場所\n芝生広場\n\n\n主催者\n西武・武蔵野パートナーズ\n\n\n料金\n200円（保険料他）\n\n\n参加申し込み\n事前予約：TEL0422-31-6457（定員20名）※当日でも空きがあれば参加可能\n\n\nイベント詳細\nhttp://musashinoparks.com/app/events/view/1338\n\n\n\n
URL:https://parkful.net/event/190129_oyako-sports-school/
CATEGORIES:東京都
END:VEVENT
END:VCALENDAR