BEGIN:VCALENDAR
VERSION:2.0
PRODID:-//PARKFUL | 公園をもっと楽しく、もっと身近に。 - ECPv4.7.3//NONSGML v1.0//EN
CALSCALE:GREGORIAN
METHOD:PUBLISH
X-WR-CALNAME:PARKFUL | 公園をもっと楽しく、もっと身近に。
X-ORIGINAL-URL:https://parkful.net
X-WR-CALDESC:Events for PARKFUL | 公園をもっと楽しく、もっと身近に。
BEGIN:VEVENT
DTSTART;VALUE=DATE:20190218
DTEND;VALUE=DATE:20190219
DTSTAMP:20260422T180158
CREATED:20190125T080922Z
LAST-MODIFIED:20190125T080922Z
UID:44410-1550448000-1550534399@parkful.net
SUMMARY:はらっぱスポーツ教室（都立武蔵野公園）
DESCRIPTION:身近な遊びや運動を通じて子どもたちの協調性を育みます！日頃の遊びにスポーツの要素を取り入れた運動(鬼ごっこ、なわとび、ボール、フラフープ等)をご紹介します。公園で体を動かして、リフレッシュしましょう！ \n\n\n\n開催日時\n2019年2月18日(月）15:00～15:45　※雨天中止\n\n\n開催場所\n都立武蔵野公園\n\n\n主催者\n西武・武蔵野パートナーズ\n\n\n料金\n200円（保険料他）\n\n\n参加申し込み\n事前申し込み　TEL：042-361-6861（8:30～17:30）先着20名(当日でも空きがあれば参加可能）／対象4～6歳児（小学生未満）\n\n\nイベント詳細\nhttp://musashinoparks.com/app/events/view/1357\n\n\n\n
URL:https://parkful.net/event/190218_sports-school/
CATEGORIES:東京都
END:VEVENT
END:VCALENDAR