BEGIN:VCALENDAR
VERSION:2.0
PRODID:-//PARKFUL | 公園をもっと楽しく、もっと身近に。 - ECPv4.7.3//NONSGML v1.0//EN
CALSCALE:GREGORIAN
METHOD:PUBLISH
X-WR-CALNAME:PARKFUL | 公園をもっと楽しく、もっと身近に。
X-ORIGINAL-URL:https://parkful.net
X-WR-CALDESC:Events for PARKFUL | 公園をもっと楽しく、もっと身近に。
BEGIN:VEVENT
DTSTART;TZID=Asia/Tokyo:20170216T100000
DTEND;TZID=Asia/Tokyo:20170216T110000
DTSTAMP:20260421T084515
CREATED:20170215T005844Z
LAST-MODIFIED:20170216T085209Z
UID:22144-1487239200-1487242800@parkful.net
SUMMARY:アウトドアフィットネス「ウォーク＆ジョグ」
DESCRIPTION:ウォーキングとスローペースのジョギングを組み合わせたプログラムです。効率の良い有酸素運動が行え、これからランニングに挑戦してみたい方におすすめです。 \n\n\n\n開催日時\n平成29年2月2日（木）・9日（木）・16日（木）・23日（木）10:00～11：00\n\n\n開催場所\n猿江恩賜公園　サービスセンター前集合\n\n\n主催者\nアメニス東部地区グループ\n\n\n参加費\n500円\n\n\n参加申し込み\n事前申込\n\n\nイベント詳細HP\nhttp://tokyo-eastpark.com/outdoor/\n\n\n\n
URL:https://parkful.net/event/20170216_outdoorfitness/
CATEGORIES:東京都
ATTACH;FMTTYPE=image/png:https://parkful.net/wp-content/uploads/2015/03/OUTDOOR-FITNESS-PARK-LOGO.png
END:VEVENT
END:VCALENDAR