BEGIN:VCALENDAR
VERSION:2.0
PRODID:-//PARKFUL | 公園をもっと楽しく、もっと身近に。 - ECPv4.7.3//NONSGML v1.0//EN
CALSCALE:GREGORIAN
METHOD:PUBLISH
X-WR-CALNAME:PARKFUL | 公園をもっと楽しく、もっと身近に。
X-ORIGINAL-URL:https://parkful.net
X-WR-CALDESC:Events for PARKFUL | 公園をもっと楽しく、もっと身近に。
BEGIN:VEVENT
DTSTART;TZID=Asia/Tokyo:20260510T090000
DTEND;TZID=Asia/Tokyo:20260510T140000
DTSTAMP:20260422T055247
CREATED:20260422T015938Z
LAST-MODIFIED:20260422T020343Z
UID:66893-1778403600-1778421600@parkful.net
SUMMARY:第２１回富士ばらまつり
DESCRIPTION:\n\n\n\n\n\n\n\n\n\n\n開催日時\n2026/5/10　9：00～14：00\n\n\n開催場所\n中央公園　西側イベント広場\n\n\n参加費\n無料\n\n\n主催者\n富士ばら会\n\n\nイベント詳細\n\n\n富士市のバラの名所である中央公園にて、毎年5月に開催されます。 \n開会式 9時\nバラ苗等の販売\nバラ苗プレゼント（事前申し込み）\nバラの鉢植え等の展示\nバラの育て方相談\n鉢植えコーナー（先着150名）\n市制60周年の富士ばらまつり記念品配布（数量限定）\nチャッキリ夢恋人による銭太鼓\n心身障がい者就労支援施設等からの模擬店 など\n\n【富士市振興公社主催】\n\nかぐや富士コンサート（FUJI BLUE ANGELS（ZARDカバーバンド）等）\nバラのライトアップ 4月下旬からゴールデンウィークにかけて、バラのライトアップを行います（日没から22時まで）\n\n\n\n\n\n.scroll-gallery-wrapper{display:flex!important;overflow-x:auto!important;gap:12px;padding:10px 0;-webkit-overflow-scrolling:touch;width:100%!important}.scroll-gallery-item{flex:0 0 160px!important;width:160px!important;position:relative;margin:0!important;padding:0!important}.scroll-gallery-item img{width:100%!important;height:110px!important;object-fit:cover!important;border-radius:8px;cursor:pointer;display:block;margin:0!important;max-height:none!important}.scroll-gallery-item input{display:none!important}.scroll-gallery-modal{position:fixed;top:0;left:0;width:100vw;height:100vh;background:rgba(0\,0\,0\,0.85);display:none;z-index:999999;justify-content:center;align-items:center;cursor:zoom-out}.scroll-gallery-item input:checked+.scroll-gallery-modal{display:flex!important}.scroll-gallery-modal img{max-width:85vw!important;max-height:75vh!important;width:auto!important;height:auto!important;border:3px solid #fff;border-radius:5px;box-shadow:0 0 30px rgba(0\,0\,0\,0.5);object-fit:contain!important}\n
URL:https://parkful.net/event/fuji-event-202604/
LOCATION:中央広場\, 富士市\, 静岡県
CATEGORIES:静岡県
ATTACH;FMTTYPE=image/jpeg:https://parkful.net/wp-content/uploads/e786bb2da2ac551e25656960b9feddd0.jpg
END:VEVENT
END:VCALENDAR