BEGIN:VCALENDAR
VERSION:2.0
PRODID:-//PARKFUL | 公園をもっと楽しく、もっと身近に。 - ECPv4.7.3//NONSGML v1.0//EN
CALSCALE:GREGORIAN
METHOD:PUBLISH
X-WR-CALNAME:PARKFUL | 公園をもっと楽しく、もっと身近に。
X-ORIGINAL-URL:https://parkful.net
X-WR-CALDESC:Events for PARKFUL | 公園をもっと楽しく、もっと身近に。
BEGIN:VEVENT
DTSTART;TZID=Asia/Tokyo:20251025T150000
DTEND;TZID=Asia/Tokyo:20251025T200000
DTSTAMP:20260420T083653
CREATED:20251014T002902Z
LAST-MODIFIED:20251014T003742Z
UID:64870-1761404400-1761422400@parkful.net
SUMMARY:SOKA SKY LANTARN
DESCRIPTION:SOKA SKY LANTARN\n\n\n\n開催日時\n2025年10月\n25日（土）15:00-20:00\n\n\n開催公園\n埼玉県草加市\n\n\n開催場所\n草加中央防災広場\n\n\n参加費\n入場無料\n\n\n参加申込\n不要\n\n\n主催者\n特定非営利活動法人 Japan Improvement Association(JIA)\n\n\nイベント詳細\nまだ草加で体験したことのない、楽しい時間を一緒に過ごしたい。\nそこにいるだけで良い、心地よい時間の共有を地域のみなさんと体験したい。そんな想いから、このイベントはスタートしております。\n当日は子どもフリマや町会や福祉事業所、草加市内外からの出店など楽しいコンテンツもあります。実は一時避難所にもなる防災広場で心地良い時間をみなさんとすごせたらと思います。※入場無料。ランタンは完全予約制。\n詳細はWEBサイトをご確認ください。\n\n\n\n
URL:https://parkful.net/event/soka-sky-lantarn/
LOCATION:草加中央防災広場\, 草加市\, 埼玉県\, 日本
CATEGORIES:埼玉県
ATTACH;FMTTYPE=image/jpeg:https://parkful.net/wp-content/uploads/SOKA-SKY-LANTARN.jpg
END:VEVENT
END:VCALENDAR