BEGIN:VCALENDAR
VERSION:2.0
PRODID:-//PARKFUL | 公園をもっと楽しく、もっと身近に。 - ECPv4.7.3//NONSGML v1.0//EN
CALSCALE:GREGORIAN
METHOD:PUBLISH
X-WR-CALNAME:PARKFUL | 公園をもっと楽しく、もっと身近に。
X-ORIGINAL-URL:https://parkful.net
X-WR-CALDESC:Events for PARKFUL | 公園をもっと楽しく、もっと身近に。
BEGIN:VEVENT
DTSTART;TZID=Asia/Tokyo:20190414T110000
DTEND;TZID=Asia/Tokyo:20190616T150000
DTSTAMP:20260422T144508
CREATED:20190322T012836Z
LAST-MODIFIED:20190322T021633Z
UID:45625-1555239600-1560697200@parkful.net
SUMMARY:あったらいいなをみんなでつくる公園プロジェクト　Sunday Park Café（武蔵国分寺公園）
DESCRIPTION:公園でのんびりカフェ気分を楽しみながら、地域の皆さんが交流できる場を作りました。地域のお店が提供するパンやスープカレーの販売の他、毎回楽しいワークショップを開催します。どなたでもお気軽にお立ち寄りください。 \n\n\n\n開催日時\n2019年4月14日（日）～6月16日（日）の毎日曜日　11:00～15:00\n※雨天中止\n※5月26日（日）は、別イベント開催のためSunday Park Cafeはお休みします。\n\n\n開催場所\n都立武蔵国分寺公園 円形広場\n\n\n主催者\n主催：西武・武蔵野パートナーズ\n企画・運営：パンピク実行委員会\n\n\n料金\n無料\n※物販・ワークショップは有料\n\n\n参加申し込み\n当日受付\n\n\nイベント詳細\nhttp://musashinoparks.com/app/events/view/1386\n\n\n\n
URL:https://parkful.net/event/sundayparkcafe-project/
CATEGORIES:東京都
END:VEVENT
END:VCALENDAR