BEGIN:VCALENDAR
VERSION:2.0
PRODID:-//PARKFUL | 公園をもっと楽しく、もっと身近に。 - ECPv4.7.3//NONSGML v1.0//EN
CALSCALE:GREGORIAN
METHOD:PUBLISH
X-WR-CALNAME:PARKFUL | 公園をもっと楽しく、もっと身近に。
X-ORIGINAL-URL:https://parkful.net
X-WR-CALDESC:Events for PARKFUL | 公園をもっと楽しく、もっと身近に。
BEGIN:VEVENT
DTSTART;TZID=Asia/Tokyo:20251018T100000
DTEND;TZID=Asia/Tokyo:20251026T163000
DTSTAMP:20260421T093753
CREATED:20251017T082017Z
LAST-MODIFIED:20251017T082017Z
UID:64898-1760781600-1761496200@parkful.net
SUMMARY:第23回日比谷公園ガーデニングショー2025
DESCRIPTION:第23回日比谷公園ガーデニングショー2025\n\n\n\n開催日時\n2025年10月18日（土）～10月26日（日）の9日間\n10:00～16:30（最終日は16:00）\n\n\n開催公園\n日比谷公園\n\n\n開催場所\n東京都千代田区\n\n\n参加費\n無料\n\n\n参加申込\n不要\n\n\n主催者\n日比谷公園ガーデニングショー実行委員会事務局\n\n\nイベント詳細\n令和7年10月18日～10月26日までの９日間、「第23回日比谷公園ガーデニングショー2025」を開催します。 \n日比谷公園ガーデニングショーは、日比谷公園開園100年を記念して平成15年に始まり、このたび23回目の開催となります。さまざまな環境や社会が変化するなか、さらに広く市民・企業・団体等の参加を得て、これからの持続可能で平和な社会を目指し、「花とみどりの力」がもつ可能性を日比谷から世界に発信します。\n秋空の下でガーデンコンテストの作品展示や花苗配布、キッチンカー出店などをお楽しみいただけます。 \n\nこちらのイベントにパークフルのグループ企業、株式会社コトブキが出展いたします。\n会場内にベンチや動く、光る、乗れる and more. “次世代のプレイフル・ファニチャー” COROを展示しています。\nぜひお楽しみください。 \n\n\n \n\n\n\n
URL:https://parkful.net/event/%e7%ac%ac23%e5%9b%9e%e6%97%a5%e6%af%94%e8%b0%b7%e5%85%ac%e5%9c%92%e3%82%ac%e3%83%bc%e3%83%87%e3%83%8b%e3%83%b3%e3%82%b0%e3%82%b7%e3%83%a7%e3%83%bc2025/
LOCATION:日比谷公園\, 千代田区\, 東京都\, 日本
CATEGORIES:東京都
END:VEVENT
BEGIN:VEVENT
DTSTART;TZID=Asia/Tokyo:20251026T103000
DTEND;TZID=Asia/Tokyo:20251026T153000
DTSTAMP:20260421T093753
CREATED:20251017T075652Z
LAST-MODIFIED:20251017T082153Z
UID:64890-1761474600-1761492600@parkful.net
SUMMARY:笑顔のマルシェ
DESCRIPTION:笑顔のマルシェ\n\n\n\n開催日時\n2025年10月26日（日）10:30-15:30\n\n\n開催公園\n氷川上田公園\n\n\n開催場所\n氷川上田公園\n\n\n参加費\n無料\n\n\n参加申込\n不要\n\n\n主催者\n笑顔のマルシェ実行委員会\n\n\nイベント詳細\n身近なところからSDGs\n笑顔のマルシェ\n子どもから大人まで、安心して楽しめるマルシェです。人気のキッチンカーや美味しいものの販売、ワークショップ、遊びなどがあります。\n仮装をしてきたお子様におかしをプレゼント（なくなり次第終了）そうかニャンも、遊びに来るよ。\nシルクドソレイユでも人気のウォールトランポリンのパフォーマンスチームEINが来ます。体験会も開催予定しています。雨天中止、駐車場はありません。公共交通機関、徒歩でのご来場をお願いします。歩いて行ける公園でつながりと役割、居場所を育むイベントです。\n\n\n\n
URL:https://parkful.net/event/64890/
LOCATION:氷川上田公園\, 草加市\, 埼玉県\, 日本
CATEGORIES:埼玉県
ATTACH;FMTTYPE=image/jpeg:https://parkful.net/wp-content/uploads/74e38e1ee9bd02738bdff76c3d8eccc0.jpeg
END:VEVENT
END:VCALENDAR