BEGIN:VCALENDAR
VERSION:2.0
PRODID:-//PARKFUL | 公園をもっと楽しく、もっと身近に。 - ECPv4.7.3//NONSGML v1.0//EN
CALSCALE:GREGORIAN
METHOD:PUBLISH
X-WR-CALNAME:PARKFUL | 公園をもっと楽しく、もっと身近に。
X-ORIGINAL-URL:https://parkful.net
X-WR-CALDESC:Events for PARKFUL | 公園をもっと楽しく、もっと身近に。
BEGIN:VEVENT
DTSTART;VALUE=DATE:20260118
DTEND;VALUE=DATE:20260321
DTSTAMP:20260421T162858
CREATED:20260107T082754Z
LAST-MODIFIED:20260108T012857Z
UID:65584-1768694400-1774051199@parkful.net
SUMMARY:バラの剪定講習会
DESCRIPTION:バラの剪定講習会\n\n\n\n開催日時\n2026年1月18日、2月1日、3月20日　各10：00～12：00\n\n\n開催公園\n靱公園\n\n\n開催場所\n大阪府大阪市西区\n\n\n参加費\n有料\n\n\n参加申込\n必要\n\n\n主催者\n靱公園＆地域デザイングループ（指定管理者）構成企業　阪神園芸株式会社\n\n\nイベント詳細\nバラ愛好家必見!バラの専門技術者による剪定講習会を実施します。\n講師は世界バラ会議福山大会で技術指導を担われた松尾正晃氏。\n大阪市の都心のオアシスと呼ばれる大阪市西区の靱(ｳﾂﾎﾞ)公園で開催します。\n是非ご参加ください。\n1月18日、2月1日、3月20日の3回を予定しております。 \n※参加申し込み等や費用などのご質問は直接主催者へお問い合わせください。 \n\n\n\n\n  \n\n
URL:https://parkful.net/event/%e3%83%90%e3%83%a9%e3%81%ae%e5%89%aa%e5%ae%9a%e8%ac%9b%e7%bf%92%e4%bc%9a/
LOCATION:靱公園\, 西区\, 大阪市\, 大阪府
CATEGORIES:大阪府
ATTACH;FMTTYPE=image/jpeg:https://parkful.net/wp-content/uploads/dd661ac3a8a86117918ff547a605e359-e1767774422930.jpg
END:VEVENT
BEGIN:VEVENT
DTSTART;TZID=Asia/Tokyo:20260215T100000
DTEND;TZID=Asia/Tokyo:20260215T120000
DTSTAMP:20260421T162858
CREATED:20260129T073230Z
LAST-MODIFIED:20260129T073230Z
UID:65846-1771149600-1771156800@parkful.net
SUMMARY:令和7年度ボランティア活動報告会
DESCRIPTION:令和7年度ボランティア活動報告会\n\n\n\n開催日時\n2026年2月15日　10：00～12：00\n\n\n開催場所\nオンライン（Zoom）\n\n\n参加費\n無料\n\n\n参加申込\n事前申込制（2/12締切）　こちらのフォームよりお申し込みください。\n\n\n主催者\n公益財団法人東京都公園協会\n\n\nイベント詳細\n\n都立公園・庭園・霊園や東京の河川の水辺では、たくさんのボランティア団体や個人の方が活躍していることをご存じでしょうか？ \n身近な公園や水辺などでおこなわれているボランティア活動について、活動の様子や取組事例を紹介する「令和７年度ボランティア活動報告会」を開催します。 \n当日はどなたでもオンライン視聴ができます。現在ボランティア活動中の方、これからボランティア活動をしてみたいと思っている方、社会貢献活動に関心を持っている企業、学生の皆さま、ぜひご覧ください！ \n基調講演では、地域の小さな公園を支える公園愛護会や公園ボランティアをサポートをしている「みんなの公園愛護会」さんより、取材を通して見えてきた都立公園のボランティア活動の魅力についてお話いただきます。 \n※参加申し込みなどのご質問は直接主催者へお問い合わせください。 \n\n\n\n
URL:https://parkful.net/event/%e4%bb%a4%e5%92%8c7%e5%b9%b4%e5%ba%a6%e3%83%9c%e3%83%a9%e3%83%b3%e3%83%86%e3%82%a3%e3%82%a2%e6%b4%bb%e5%8b%95%e5%a0%b1%e5%91%8a%e4%bc%9a/
LOCATION:オンライン（Zoom）\, 大阪府
CATEGORIES:オンライン
ATTACH;FMTTYPE=image/jpeg:https://parkful.net/wp-content/uploads/9deb05fb5f2a632ab8b06d46644149f1.jpg
END:VEVENT
END:VCALENDAR