BEGIN:VCALENDAR
VERSION:2.0
PRODID:-//PARKFUL | 公園をもっと楽しく、もっと身近に。 - ECPv4.7.3//NONSGML v1.0//EN
CALSCALE:GREGORIAN
METHOD:PUBLISH
X-WR-CALNAME:PARKFUL | 公園をもっと楽しく、もっと身近に。
X-ORIGINAL-URL:https://parkful.net
X-WR-CALDESC:Events for PARKFUL | 公園をもっと楽しく、もっと身近に。
BEGIN:VEVENT
DTSTART;VALUE=DATE:20260320
DTEND;VALUE=DATE:20260511
DTSTAMP:20260421T180606
CREATED:20260226T043948Z
LAST-MODIFIED:20260226T045450Z
UID:66072-1773964800-1778457599@parkful.net
SUMMARY:華蔵寺公園花まつり
DESCRIPTION:\nPDFを開く(1枚目)\nPDFを開く(2枚目)\n\n\n\n\n開催日時\n2026年3月20日〜5月10日\n\n\n開催場所\n華蔵寺公園\n\n\n主催者\n群馬県伊勢崎市文化観光課　伊勢崎市観光物産協会\n\n\nイベント詳細\n\n「華蔵寺公園花まつり」は、華蔵寺公園で毎年開催している春の恒例イベントです。 \n公園内では、3月下旬～4月上旬に約600本のソメイヨシノ、4月中旬～5月上旬に約5000本のツツジが咲き誇ります。桜の開花時期には夜桜のライトアップと遊園地の夜間営業が行われ、観覧車から見る景色は絶景です。 \n提灯ライトアップ\n公園内の桜とツツジを提灯でライトアップします。時間については、桜の見頃の時期となる3月下旬から4月上旬は午後10時30分まで、その後は午後9時まで行います。 \n\n\n\n\n.pdf-grid-wrapper{display:flex;flex-wrap:wrap;gap:10px;justify-content:center;width:100%}.pdf-grid-item{width:calc(50% - 5px);box-sizing:border-box;text-align:center}.pdf-grid-item img{width:100%;height:auto;display:block;cursor:pointer;border-radius:4px;border:1px solid #eee}.pdf-label{display:block;margin-top:5px;font-size:12px;color:#666;text-decoration:none}\n
URL:https://parkful.net/event/kezoji-flower/
LOCATION:華蔵寺公園\, 伊勢崎市\, 群馬県
CATEGORIES:群馬県
ATTACH;FMTTYPE=image/jpeg:https://parkful.net/wp-content/uploads/Flower_Festival2026.jpg
END:VEVENT
BEGIN:VEVENT
DTSTART;VALUE=DATE:20260328
DTEND;VALUE=DATE:20260413
DTSTAMP:20260421T180606
CREATED:20260325T004912Z
LAST-MODIFIED:20260325T012828Z
UID:66462-1774656000-1776038399@parkful.net
SUMMARY:摂津峡さくら祭り
DESCRIPTION:\n\n\n開催日時\n2026年3月28日（土）〜4月12日（日）\n\n\nライトアップ時間\n18時から〜21時まで　※金・土・日に実施\n\n\n開催場所\n摂津峡公園\n\n\n料金\n入場無料\n\n\n\n主催者\n高槻市観光協会\n\n\nイベント詳細\n\n摂津峡はソメイヨシノをはじめ約3000本の桜が咲き誇る北摂を代表する桜の名所です。春になると園内一帯が淡い桜色に染まり、多くの来場者でにぎわいます。今年は、3月28日（土曜日）から4月12日（日曜日）まで摂津峡公園内の桜広場で「摂津峡さくら祭り」が開催。昼間は青空の下で広がる華やかな桜を楽しむことができます。また、期間中の金・土・日曜日の18時から21時にはライトアップを実施。光に照らされた桜が園内を幻想的に彩り、昼とは異なる風情で訪れる人を魅了します。また、同公園周辺には自然豊かなハイキングコースがあるほか、三好長慶が居城とした芥川城跡や食事や温泉を楽しめる温泉旅館もあって、お花見とあわせて歴史や観光も満喫できます。家族や友人と春のひとときをお楽しみください。\n\n\n\n\n※この記事はプレスリリースをもとに作成しています。\n※イベント詳細はプレスリリース発表時のものです。お出かけの際は公式情報を確認してください。 \n
URL:https://parkful.net/event/202603_settsukyo/
LOCATION:摂津峡公園\, 高槻市\, 大阪府
CATEGORIES:大阪府
ATTACH;FMTTYPE=image/jpeg:https://parkful.net/wp-content/uploads/main-2-1.jpg
END:VEVENT
BEGIN:VEVENT
DTSTART;TZID=Asia/Tokyo:20260328T100000
DTEND;TZID=Asia/Tokyo:20260328T160000
DTSTAMP:20260421T180606
CREATED:20260317T055721Z
LAST-MODIFIED:20260317T055851Z
UID:66370-1774692000-1774713600@parkful.net
SUMMARY:第49回岩槻城址公園桜まつり
DESCRIPTION:\n\n\n開催日時\n2026年3月28日（土）10:00～16:00\n\n\n開催場所\n 岩槻城址公園 \n\n\n主催者\n公益社団法人さいたま観光国際協会\n\n\nイベント詳細\n\n岩槻城址公園は約500本の桜が咲き誇る、埼玉県内でも有数の桜の名所です。\n桜まつりはこの名所を広く市内外に紹介するために始まり、今回で49回目となります。\n当日は琴演奏のほか、飲食物の販売やフリーマーケット、岩槻観光ボランティアガイド会による無料の公園内観光ガイドツアーなど、各種イベントを実施します。\nぜひ、風情あふれる岩槻城址公園の桜をお楽しみください！ \n【内容】\n琴演奏（4回）、野点（有料、数量限定）、フリーマーケット、緑の基金（花の種等の配布／数量限定）、飲食物の販売、キッチンカー出店、岩槻観光ガイドツアー（城址公園内）\n内容について詳細はこちらへ \n【公園内の提灯点灯】\n期間：3月19日（木）から3月29日（日）まで\n※点灯は18時から21時まで \n\n\n\n\n※この記事はプレスリリースをもとに作成しています。\n※イベント詳細はプレスリリース発表時のものです。お出かけの際は公式情報を確認してください。 \n
URL:https://parkful.net/event/%e7%ac%ac49%e5%9b%9e%e5%b2%a9%e6%a7%bb%e5%9f%8e%e5%9d%80%e5%85%ac%e5%9c%92%e6%a1%9c%e3%81%be%e3%81%a4%e3%82%8a/
LOCATION:岩槻城址公園\, さいたま市\, 埼玉県
CATEGORIES:埼玉県
ATTACH;FMTTYPE=image/jpeg:https://parkful.net/wp-content/uploads/main-8.jpg
END:VEVENT
BEGIN:VEVENT
DTSTART;TZID=Asia/Tokyo:20260328T100000
DTEND;TZID=Asia/Tokyo:20260329T160000
DTSTAMP:20260421T180606
CREATED:20260325T012422Z
LAST-MODIFIED:20260325T012422Z
UID:66501-1774692000-1774800000@parkful.net
SUMMARY:舎人公園千本桜まつり
DESCRIPTION:\n\n\n\n\n\n\n\n\n\n\n開催日時\n2026年3月28日（土）〜3月29日（日）\n\n\n開催場所\n都立舎人公園\n\n\n主催者\n （一財）足立区観光交流協会、足立区、東京都建設局、東京都交通局、（公財）東京都公園協会\n \n\n\nイベント詳細\n\n地元企業や飲食店、足立区の友好自治体（新潟県魚沼市、長野県山ノ内町、栃木県鹿沼市）などによる物産展や模擬店が並び、様々なグルメや買い物を楽しめます。そのほか、ＶＲ防災体験車、出張生物園、ふわふわスライダーなど、子どもから大人まで楽しめる企画が盛りだくさん！ \n皆さまのご来場をお待ちしております。\n\n\n\n\n※この記事はプレスリリースをもとに作成しています。\n※イベント詳細はプレスリリース発表時のものです。お出かけの際は公式情報を確認してください。 \n.scroll-gallery-wrapper{display:flex!important;overflow-x:auto!important;gap:12px;padding:10px 0;-webkit-overflow-scrolling:touch;width:100%!important}.scroll-gallery-item{flex:0 0 160px!important;width:160px!important;position:relative;margin:0!important;padding:0!important}.scroll-gallery-item img{width:100%!important;height:110px!important;object-fit:cover!important;border-radius:8px;cursor:pointer;display:block;margin:0!important;max-height:none!important}.scroll-gallery-item input{display:none!important}.scroll-gallery-modal{position:fixed;top:0;left:0;width:100vw;height:100vh;background:rgba(0\,0\,0\,0.85);display:none;z-index:999999;justify-content:center;align-items:center;cursor:zoom-out}.scroll-gallery-item input:checked+.scroll-gallery-modal{display:flex!important}.scroll-gallery-modal img{max-width:85vw!important;max-height:75vh!important;width:auto!important;height:auto!important;border:3px solid #fff;border-radius:5px;box-shadow:0 0 30px rgba(0\,0\,0\,0.5);object-fit:contain!important}\n
URL:https://parkful.net/event/202603_toneri/
LOCATION:舎人公園\, 足立区\, 東京都
CATEGORIES:東京都
ATTACH;FMTTYPE=image/jpeg:https://parkful.net/wp-content/uploads/main-11.jpg
END:VEVENT
BEGIN:VEVENT
DTSTART;TZID=Asia/Tokyo:20260328T120000
DTEND;TZID=Asia/Tokyo:20260328T150000
DTSTAMP:20260421T180606
CREATED:20260309T014236Z
LAST-MODIFIED:20260309T020140Z
UID:66307-1774699200-1774710000@parkful.net
SUMMARY:国際交流お花見
DESCRIPTION:\n\n\n開催日時\n2026年３月２８日（土）1２:00～1５:00\n\n\n開催場所\n天神中央公園　区画E-1\,E-2\n\n\n参加費\n無料\n\n\n\n参加方法\n\n2026年３月２１日（土）までに、チラシ記載のQRコードもしくは下記のURLからLINEでお申し込みください。 \n（上記の期限を過ぎた場合は、LINEからメッセージにてご応募ください） \nhttps://liff.line.me/1656788675-KpPeqOdY?liff_id=1656788675-KpPeqOdY&group_id=76136 \n\n\n\n持ち物\n1\,000円程度のシェアできる食べ物・飲み物の各自持参をお願い致します。\n※アルコール類は不可 \n\n\n\n主催者\n特定非営利活動法人 国際教育支援機構スマイリーフラワーズ\n\n\nイベント詳細\n\n本イベントは、日本の伝統文化である「お花見」をテーマに、日本人と外国人が気軽に交流できる場を創出することを目的としています。福岡在住の留学生や国際交流に関心のある高校生以上の方を対象に、ハイタッチ自己紹介や皆で食事をしながらの交流タイム、チーム対抗豆つかみゲームなどを通して、言語や文化の壁を越えた出会いを生み出します！！ \n参加者は、１０００円程度の食事や、飲み物を持ち寄るポットラック形式で、自然な会話と交流が生まれる仕掛けとなっています。日本文化に初めて触れる外国人にとっては貴重な体験の場となり、日本人にとっても異文化理解を深める機会となります。 \nスマイリーフラワーズは、「国際理解」と「次世代育成」を軸に、誰もが安心して参加できる国際交流の場づくりを行ってきました。本イベントもその一環として、地域に根ざしたグローバルなつながりを育むことを目指しています。\n\n\n\n\n※この記事はプレスリリースをもとに作成しています。\n※イベント詳細はプレスリリース発表時のものです。お出かけの際は公式情報を確認してください。 \n.pdf-grid-wrapper{display:flex;flex-wrap:wrap;gap:10px;justify-content:center;width:100%}.pdf-grid-item{width:calc(50% - 5px);box-sizing:border-box;text-align:center}.pdf-grid-item img{width:100%;height:auto;display:block;cursor:pointer;border-radius:4px;border:1px solid #eee}.pdf-label{display:block;margin-top:5px;font-size:12px;color:#666;text-decoration:none}\n
URL:https://parkful.net/event/kokusaikoryuohanami/
LOCATION:天神中央公園\, 福岡市\, 福岡県
CATEGORIES:福岡県
ATTACH;FMTTYPE=image/jpeg:https://parkful.net/wp-content/uploads/main-5.jpg
END:VEVENT
END:VCALENDAR