BEGIN:VCALENDAR
VERSION:2.0
PRODID:-//PARKFUL | 公園をもっと楽しく、もっと身近に。 - ECPv4.7.3//NONSGML v1.0//EN
CALSCALE:GREGORIAN
METHOD:PUBLISH
X-WR-CALNAME:PARKFUL | 公園をもっと楽しく、もっと身近に。
X-ORIGINAL-URL:https://parkful.net
X-WR-CALDESC:Events for PARKFUL | 公園をもっと楽しく、もっと身近に。
BEGIN:VEVENT
DTSTART;VALUE=DATE:20260320
DTEND;VALUE=DATE:20260511
DTSTAMP:20260421T193912
CREATED:20260226T043948Z
LAST-MODIFIED:20260226T045450Z
UID:66072-1773964800-1778457599@parkful.net
SUMMARY:華蔵寺公園花まつり
DESCRIPTION:\nPDFを開く(1枚目)\nPDFを開く(2枚目)\n\n\n\n\n開催日時\n2026年3月20日〜5月10日\n\n\n開催場所\n華蔵寺公園\n\n\n主催者\n群馬県伊勢崎市文化観光課　伊勢崎市観光物産協会\n\n\nイベント詳細\n\n「華蔵寺公園花まつり」は、華蔵寺公園で毎年開催している春の恒例イベントです。 \n公園内では、3月下旬～4月上旬に約600本のソメイヨシノ、4月中旬～5月上旬に約5000本のツツジが咲き誇ります。桜の開花時期には夜桜のライトアップと遊園地の夜間営業が行われ、観覧車から見る景色は絶景です。 \n提灯ライトアップ\n公園内の桜とツツジを提灯でライトアップします。時間については、桜の見頃の時期となる3月下旬から4月上旬は午後10時30分まで、その後は午後9時まで行います。 \n\n\n\n\n.pdf-grid-wrapper{display:flex;flex-wrap:wrap;gap:10px;justify-content:center;width:100%}.pdf-grid-item{width:calc(50% - 5px);box-sizing:border-box;text-align:center}.pdf-grid-item img{width:100%;height:auto;display:block;cursor:pointer;border-radius:4px;border:1px solid #eee}.pdf-label{display:block;margin-top:5px;font-size:12px;color:#666;text-decoration:none}\n
URL:https://parkful.net/event/kezoji-flower/
LOCATION:華蔵寺公園\, 伊勢崎市\, 群馬県
CATEGORIES:群馬県
ATTACH;FMTTYPE=image/jpeg:https://parkful.net/wp-content/uploads/Flower_Festival2026.jpg
END:VEVENT
BEGIN:VEVENT
DTSTART;VALUE=DATE:20260401
DTEND;VALUE=DATE:20260501
DTSTAMP:20260421T193912
CREATED:20260408T074802Z
LAST-MODIFIED:20260408T075912Z
UID:66668-1775001600-1777593599@parkful.net
SUMMARY:4月のイベント情報　東部7公園
DESCRIPTION:東部7公園の４月のイベント情報をお知らせします♪ \n※東部７公園は以下の公園です。 \n\n猿江恩賜公園\n亀戸中央公園\n尾久の原公園\n東綾瀬公園\n中川公園\n大島小松川公園\n宇喜田公園\n\n\n\n\n\n【４/10(金)－12(日):猿江恩賜公園】\nチューリップフェスタコンサートチューリップの杜をライトアップし、ミニコンサートを開催します🎷🌷\n\n\n【４/11(土):亀戸中央公園】\nわんちゃんとの暮らし方教室「わんちゃんとの可愛い写真を撮ろう」をテーマに、わんちゃんについて身近な疑問を解消したり、困っていることを相談をしながら楽しく体験ができます🐕\n\n\n【４/12(日):尾久の原公園】\npark:motto×ミニ防災イベント毎月恒例のマルシェ出店に加え、ミニ防災イベント～もしも災害に出会ったら～を開催します🚒 \n【こいのぼりイベント🎏】 \n宇喜田公園を除く、各公園で、こいのぼりを作って公園に展示するイベントを実施します。 \n世界にたった1つの作品を大空に浮かべてみませんか？\n\n\n【猿江恩賜公園・大島小松川公園・亀戸中央公園】\nアウトドアフィットネスパークヨガ、ノルディックウォーキング、からだほぐし体操、かけっこ教室など、講師によるフィットネスレッスンを実施しています。日程など詳細は下記リンクよりご覧ください↓↓ \nアウトドアフィットネス – 東京都東部7公園 (tokyo-eastpark.com)\n\n\n\n他にも様々なイベントを開催予定です \n個々のイベントの詳細は、こちらのページよりご確認いただけます（順次公開） \n
URL:https://parkful.net/event/4%e6%9c%88%e3%81%ae%e3%82%a4%e3%83%99%e3%83%b3%e3%83%88%e6%83%85%e5%a0%b1%e3%80%80%e6%9d%b1%e9%83%a87%e5%85%ac%e5%9c%92/
LOCATION:群馬県
CATEGORIES:東京都
ATTACH;FMTTYPE=image/jpeg:https://parkful.net/wp-content/uploads/5d1a119ffc7486d7187d8acfcaced5c4.jpg
END:VEVENT
BEGIN:VEVENT
DTSTART;VALUE=DATE:20260410
DTEND;VALUE=DATE:20260507
DTSTAMP:20260421T193912
CREATED:20260330T082004Z
LAST-MODIFIED:20260330T082004Z
UID:66565-1775779200-1778111999@parkful.net
SUMMARY:町田薬師池公園四季彩の杜　春フェア2026～花の便り～
DESCRIPTION:\n\n\n\n\n\n\n開催日時\n2026年4月10日（金）〜2026年5月6日（水・振休）\n\n\n料金\n入場無料\n\n\n\n主催者\n町田市観光コンベンション協会（協力：町田市、町田薬師池公園四季彩の杜各施設）\n\n\nイベント詳細\n\n例年開催している「ぼたん・しゃくやくまつり」に併せて、薬師池をはじめとする全9施設で、様々なイベントを開催します。\nぼたんや菜の花が見頃を迎え、新緑が美しい四季彩の杜の春を堪能しに、是非足をお運びください。 \n\n\n\nイベント名及び開催日\n場所\n内容\n\n\n\n\nぼたん・しゃくやくまつり4月10日（金）～5月6日（水・振休）\nぼたん園\n約330種類、約1\,700株のぼたんと、約60種類、約600株の芍薬（しゃくやく）の色鮮やかな大輪の花が咲き誇ります。\n\n\nまちだ里山アート探検隊みっけるん in 四季彩の杜4月11日（土）～5月6日（水・振休）の土・日曜日、祝休日\n四季彩の杜エリア\n四季彩の杜に隠れたアートを見つける自然体験プログラムです。（要事前申込／有料）\n\n\n七国山そば・そば粉の販売4月1日(水) 午前9時30分から（売り切れ次第終了）\nふるさと農具館\n七国山のそば畑で収穫された玄そばを使用した乾麺・そば粉を販売します。\n\n\n横浜キヤノンイーグルス写真展4月8日（水）～20日（月）\n町田市フォトサロン\nキヤノンギャラリーで開催した写真展を再構成した展示を行います。\n\n\n菜の花の見頃4月中旬から4月下旬\n七国山など\n七国山ファーマーズセンター近くの畑で菜の花が見頃を迎えます。\n\n\nなたね油しぼりの実演と販売4月18日(土) 午前9時30分から（売り切れ次第終了）\nふるさと農具館\n野津田町の七国山地区で栽培している菜種から油をしぼります。 油は255gビン1本700円で販売します。\n\n\nやくしLOCALファーマーズマーケット4月18日(土)、19日（日） 午前10時～午後3時\n西園\n市内の農家や飲食事業者の農畜産物、加工品などが購入できる青空市場を開きます。\n\n\n春の薬師池公園作品展4月22日（水）～5月6日（水・振休）\n町田市フォトサロン\n「春の薬師池公園撮影会」の作品をはじめ、薬師池公園の春をとらえた作品を展示します。\n\n\n西園にて新緑と楽しむ茶会4月25日（土）午前10時～午後3時（事前予約制）\n西園\n緑鮮やかな景色の西園で、野点を実施します。茶道体験もできます。\n\n\nダリア球根販売4月29日（水・祝） 午前9時30分～午後1時\nダリア園\n町田産ダリアをはじめとするダリアの球根を販売します。\n\n\n子どもDay’s5月3日（日・祝）～5日（火・祝） 午前10時～午後3時\n西園\n自然素材工作、ペーパークラフト、子供ネイル等を楽しめます。\n\n\nナイトピクニックシネマ5月5日（火・祝） 午後7時\n西園\n芝生の上で映画鑑賞ができます。\n\n\n町田「幸福街道」ゼルビア応援ハイキング5月6日（水・振休）\n薬師池公園など\nFC町田ゼルビアのホームスタジアムのふもとの「幸山華厳院」と薬師池公園隣接の「福王寺薬師堂」を結ぶ通称「幸福街道」をご住職のガイド付きで歩きます（要事前申込／有料）\n\n\n\n\n\n\n\n※この記事はプレスリリースをもとに作成しています。\n※イベント詳細はプレスリリース発表時のものです。お出かけの際は公式情報を確認してください。 \n
URL:https://parkful.net/event/%e7%94%ba%e7%94%b0%e8%96%ac%e5%b8%ab%e6%b1%a0%e5%85%ac%e5%9c%92%e5%9b%9b%e5%ad%a3%e5%bd%a9%e3%81%ae%e6%9d%9c%e3%80%80%e6%98%a5%e3%83%95%e3%82%a7%e3%82%a22026%ef%bd%9e%e8%8a%b1%e3%81%ae%e4%be%bf/
LOCATION:町田薬師池公園　四季彩の杜\, 群馬県
CATEGORIES:東京都
ATTACH;FMTTYPE=image/jpeg:https://parkful.net/wp-content/uploads/main-12-scaled.jpg
END:VEVENT
BEGIN:VEVENT
DTSTART;VALUE=DATE:20260410
DTEND;VALUE=DATE:20260427
DTSTAMP:20260421T193912
CREATED:20260410T030125Z
LAST-MODIFIED:20260410T030252Z
UID:66746-1775779200-1777247999@parkful.net
SUMMARY:花と光のムーブメント 舎人公園～ネモフィラと百花の花景色～
DESCRIPTION:\n\n\n\n\n\n\n\n\n\n\n\n開催日時\n2026年4月10日(金)〜4月26日（日）\n\n\nライトアップ時間\n月・火・水・木 18:00～20:00、金・土・日 18:00～20:30\n\n\n開催場所\n舎人公園\n\n\n参加費\n無料\n\n\n主催者\n【主催】東京都　　【協力】公益財団法人東京都公園協会\n\n\nイベント詳細\n\n4回目の実施となる2026年は、舎人公園の代名詞の１つ、ネモフィラの「青」にスポットを当て、多彩な春の花々から青へと移ろう「色のストーリー」を、花とイルミネーション、音の融合で表現します。 \n春を彩る色とりどりの花々を進んで行った先には、「ネモフィラブルー」の絶景が広がります。また、ネモフィラの上で写真撮影ができるフォトスポット「ネモフィラスカイステージ」もお目見え。まるでネモフィラの世界に入り込んだような没入感と、非日常の心躍るひと時をお楽しみいただけます。　 \nそのほか、開催期間中はキッチンカーも出店します。この時期限定の、青に染まる舎人公園をお楽しみください。 \n\n\n\n\n.scroll-gallery-wrapper{display:flex!important;overflow-x:auto!important;gap:12px;padding:10px 0;-webkit-overflow-scrolling:touch;width:100%!important}.scroll-gallery-item{flex:0 0 160px!important;width:160px!important;position:relative;margin:0!important;padding:0!important}.scroll-gallery-item img{width:100%!important;height:110px!important;object-fit:cover!important;border-radius:8px;cursor:pointer;display:block;margin:0!important;max-height:none!important}.scroll-gallery-item input{display:none!important}.scroll-gallery-modal{position:fixed;top:0;left:0;width:100vw;height:100vh;background:rgba(0\,0\,0\,0.85);display:none;z-index:999999;justify-content:center;align-items:center;cursor:zoom-out}.scroll-gallery-item input:checked+.scroll-gallery-modal{display:flex!important}.scroll-gallery-modal img{max-width:85vw!important;max-height:75vh!important;width:auto!important;height:auto!important;border:3px solid #fff;border-radius:5px;box-shadow:0 0 30px rgba(0\,0\,0\,0.5);object-fit:contain!important}\n
URL:https://parkful.net/event/flowerandlight-toneripark/
LOCATION:舎人公園\, 足立区\, 東京都
CATEGORIES:東京都
ATTACH;FMTTYPE=image/jpeg:https://parkful.net/wp-content/uploads/sub1-7-scaled.jpg
END:VEVENT
END:VCALENDAR